BEGIN:VCALENDAR
VERSION:2.0
PRODID:-//David Abrahams - ECPv5.1.2.1//NONSGML v1.0//EN
CALSCALE:GREGORIAN
METHOD:PUBLISH
X-WR-CALNAME:David Abrahams
X-ORIGINAL-URL:https://davidabrahams.com.au
X-WR-CALDESC:Events for David Abrahams
BEGIN:VTIMEZONE
TZID:Australia/Sydney
BEGIN:STANDARD
TZOFFSETFROM:+1100
TZOFFSETTO:+1000
TZNAME:AEST
DTSTART:20190406T160000
END:STANDARD
BEGIN:DAYLIGHT
TZOFFSETFROM:+1000
TZOFFSETTO:+1100
TZNAME:AEDT
DTSTART:20191005T160000
END:DAYLIGHT
END:VTIMEZONE
BEGIN:VEVENT
DTSTART;TZID=Australia/Sydney:20190505T113000
DTEND;TZID=Australia/Sydney:20190505T130000
DTSTAMP:20210228T011524
CREATED:20190502T094029Z
LAST-MODIFIED:20190502T094130Z
UID:2533-1557055800-1557061200@davidabrahams.com.au
SUMMARY:Hands Across the Sand
DESCRIPTION:\n\n\n \n\n\n\n\n\n\n\n\n\n\n
URL:https://davidabrahams.com.au/event/hands-across-the-sand/
END:VEVENT
BEGIN:VEVENT
DTSTART;TZID=Australia/Sydney:20190505T140000
DTEND;TZID=Australia/Sydney:20190505T150000
DTSTAMP:20210228T011524
CREATED:20190502T095135Z
LAST-MODIFIED:20190505T225436Z
UID:2537-1557064800-1557068400@davidabrahams.com.au
SUMMARY:HG Nelson's Pollie Punch Up
DESCRIPTION:\n\n\n\n\nJoin us for a few rounds of political debate and see who’ll throw the first punch… \n\n\n\n\n\n\n\n\n\n\n
URL:https://davidabrahams.com.au/event/hg-nelsons-pollie-punch-up/
END:VEVENT
END:VCALENDAR