BEGIN:VCALENDAR
VERSION:2.0
PRODID:-//David Abrahams - ECPv5.1.2.1//NONSGML v1.0//EN
CALSCALE:GREGORIAN
METHOD:PUBLISH
X-WR-CALNAME:David Abrahams
X-ORIGINAL-URL:https://davidabrahams.com.au
X-WR-CALDESC:Events for David Abrahams
BEGIN:VTIMEZONE
TZID:Australia/Sydney
BEGIN:STANDARD
TZOFFSETFROM:+1100
TZOFFSETTO:+1000
TZNAME:AEST
DTSTART:20190406T160000
END:STANDARD
BEGIN:DAYLIGHT
TZOFFSETFROM:+1000
TZOFFSETTO:+1100
TZNAME:AEDT
DTSTART:20191005T160000
END:DAYLIGHT
END:VTIMEZONE
BEGIN:VEVENT
DTSTART;TZID=Australia/Sydney:20190429T083000
DTEND;TZID=Australia/Sydney:20190503T173000
DTSTAMP:20210228T011312
CREATED:20190502T094653Z
LAST-MODIFIED:20190502T094719Z
UID:2535-1556526600-1556904600@davidabrahams.com.au
SUMMARY:Pre-poll Gosford
DESCRIPTION:\n\n\n \n\n\n\n\n\n\n\n\n\n\n
URL:https://davidabrahams.com.au/event/pre-poll-gosford/
END:VEVENT
END:VCALENDAR