BEGIN:VCALENDAR
VERSION:2.0
PRODID:-//David Abrahams - ECPv5.1.2.1//NONSGML v1.0//EN
CALSCALE:GREGORIAN
METHOD:PUBLISH
X-WR-CALNAME:David Abrahams
X-ORIGINAL-URL:https://davidabrahams.com.au
X-WR-CALDESC:Events for David Abrahams
BEGIN:VTIMEZONE
TZID:Australia/Sydney
BEGIN:STANDARD
TZOFFSETFROM:+1100
TZOFFSETTO:+1000
TZNAME:AEST
DTSTART:20190406T160000
END:STANDARD
BEGIN:DAYLIGHT
TZOFFSETFROM:+1000
TZOFFSETTO:+1100
TZNAME:AEDT
DTSTART:20191005T160000
END:DAYLIGHT
END:VTIMEZONE
BEGIN:VEVENT
DTSTART;TZID=Australia/Sydney:20190330T113000
DTEND;TZID=Australia/Sydney:20190330T130000
DTSTAMP:20210228T012037
CREATED:20190225T145202Z
LAST-MODIFIED:20190305T024942Z
UID:2136-1553945400-1553950800@davidabrahams.com.au
SUMMARY:Headland Talk #1 Gosford
DESCRIPTION:
URL:https://davidabrahams.com.au/event/headland-talk-1-gosford/
END:VEVENT
END:VCALENDAR