BEGIN:VCALENDAR
VERSION:2.0
PRODID:-//David Abrahams - ECPv5.1.2.1//NONSGML v1.0//EN
CALSCALE:GREGORIAN
METHOD:PUBLISH
X-WR-CALNAME:David Abrahams
X-ORIGINAL-URL:https://davidabrahams.com.au
X-WR-CALDESC:Events for David Abrahams
BEGIN:VTIMEZONE
TZID:Australia/Sydney
BEGIN:STANDARD
TZOFFSETFROM:+1100
TZOFFSETTO:+1000
TZNAME:AEST
DTSTART:20190406T160000
END:STANDARD
BEGIN:DAYLIGHT
TZOFFSETFROM:+1000
TZOFFSETTO:+1100
TZNAME:AEDT
DTSTART:20191005T160000
END:DAYLIGHT
END:VTIMEZONE
BEGIN:VEVENT
DTSTART;TZID=Australia/Sydney:20190208T123000
DTEND;TZID=Australia/Sydney:20190208T140000
DTSTAMP:20210228T012338
CREATED:20190225T151301Z
LAST-MODIFIED:20190225T151301Z
UID:2148-1549629000-1549634400@davidabrahams.com.au
SUMMARY:Supporter Workshop #1 - Woy Woy Library
DESCRIPTION:
URL:https://davidabrahams.com.au/event/supporter-workshop-1-woy-woy-library/
END:VEVENT
END:VCALENDAR